BEGIN:VCALENDAR
VERSION:2.0
PRODID:-//Maraleina Sports Resort - ECPv6.15.20//NONSGML v1.0//EN
CALSCALE:GREGORIAN
METHOD:PUBLISH
X-WR-CALNAME:Maraleina Sports Resort
X-ORIGINAL-URL:https://maraleina.com
X-WR-CALDESC:Events for Maraleina Sports Resort
REFRESH-INTERVAL;VALUE=DURATION:PT1H
X-Robots-Tag:noindex
X-PUBLISHED-TTL:PT1H
BEGIN:VTIMEZONE
TZID:Asia/Krasnoyarsk
BEGIN:STANDARD
TZOFFSETFROM:+0700
TZOFFSETTO:+0700
TZNAME:+07
DTSTART:20250101T000000
END:STANDARD
END:VTIMEZONE
BEGIN:VEVENT
DTSTART;TZID=Asia/Krasnoyarsk:20260420T090000
DTEND;TZID=Asia/Krasnoyarsk:20260424T143000
DTSTAMP:20260421T205015
CREATED:20260407T080357Z
LAST-MODIFIED:20260417T042801Z
UID:10001129-1776675600-1777041000@maraleina.com
SUMMARY:Holiday Sports Camp | Songkran Edition
DESCRIPTION:We’ve added another week due to high demand!\nMaraleina Songkran Holiday Sports Camp now runs:\n✅ April 20–24 \nKeep your kids active and off screens this school break with a fun-filled multi-sport camp:\nFootball | Squash | Beach games\nGymnastics | Fitness | Team games\nAges: 4–6 | 7–9 | 10–13 \nLed by our experienced coaches in a safe\, high-energy environment where kids build skills\, confidence\, and friendships. \n1 day: 1\,500 THB\n5 days: 6\,500 THB\n⚠ Limited spots available — filling fast!
URL:https://maraleina.com/event/holiday-sports-camp-songkran-edition-3/
LOCATION:Maraleina Sports Resort\, 123/9 Moo 4 Tambol Namuang\, Koh Samui\, Surat Thani\, 84140\, Thailand
CATEGORIES:Family/Kids/Community
ATTACH;FMTTYPE=image/png:https://maraleina.com/wp-content/uploads/2026/04/Holiday-Sports-Camp-tv-Updated-1-scaled.png
GEO:9.4290058756686;99.989219532826
X-APPLE-STRUCTURED-LOCATION;VALUE=URI;X-ADDRESS=Maraleina Sports Resort 123/9 Moo 4 Tambol Namuang Koh Samui Surat Thani 84140 Thailand;X-APPLE-RADIUS=500;X-TITLE=123/9 Moo 4 Tambol Namuang:geo:99.989219532826,9.4290058756686
END:VEVENT
END:VCALENDAR