BEGIN:VCALENDAR
VERSION:2.0
PRODID:-//Maraleina Sports Resort - ECPv6.15.20//NONSGML v1.0//EN
CALSCALE:GREGORIAN
METHOD:PUBLISH
X-WR-CALNAME:Maraleina Sports Resort
X-ORIGINAL-URL:https://maraleina.com
X-WR-CALDESC:Events for Maraleina Sports Resort
REFRESH-INTERVAL;VALUE=DURATION:PT1H
X-Robots-Tag:noindex
X-PUBLISHED-TTL:PT1H
BEGIN:VTIMEZONE
TZID:Asia/Krasnoyarsk
BEGIN:STANDARD
TZOFFSETFROM:+0700
TZOFFSETTO:+0700
TZNAME:+07
DTSTART:20250101T000000
END:STANDARD
END:VTIMEZONE
BEGIN:VEVENT
DTSTART;TZID=Asia/Krasnoyarsk:20261226T090000
DTEND;TZID=Asia/Krasnoyarsk:20261230T143000
DTSTAMP:20260422T173119
CREATED:20260409T095859Z
LAST-MODIFIED:20260417T044611Z
UID:10001218-1798275600-1798641000@maraleina.com
SUMMARY:Holiday Sports Camp
DESCRIPTION:We’ve added another week due to high demand!\nMaraleina Holiday Sports Camp now runs:\n✅ December 26 – 30 \nKeep your kids active and off screens this school break with a fun-filled multi-sport camp:\nFootball | Squash | Beach games\nGymnastics | Fitness | Team games\nAges: 4–6 | 7–9 | 10–13 \nLed by our experienced coaches in a safe\, high-energy environment where kids build skills\, confidence\, and friendships. \n1 day: 1\,500 THB\n5 days: 6\,500 THB\n⚠ Limited spots available — filling fast!
URL:https://maraleina.com/event/holiday-sports-camp-5/
LOCATION:Maraleina Sports Resort\, 123/9 Moo 4 Tambol Namuang\, Koh Samui\, Surat Thani\, 84140\, Thailand
CATEGORIES:Family/Kids/Community
GEO:9.4290058756686;99.989219532826
X-APPLE-STRUCTURED-LOCATION;VALUE=URI;X-ADDRESS=Maraleina Sports Resort 123/9 Moo 4 Tambol Namuang Koh Samui Surat Thani 84140 Thailand;X-APPLE-RADIUS=500;X-TITLE=123/9 Moo 4 Tambol Namuang:geo:99.989219532826,9.4290058756686
END:VEVENT
BEGIN:VEVENT
DTSTART;VALUE=DATE:20261231
DTEND;VALUE=DATE:20270102
DTSTAMP:20260422T173119
CREATED:20260409T095737Z
LAST-MODIFIED:20260409T095737Z
UID:10001217-1798675200-1798847999@maraleina.com
SUMMARY:NEW YEARS EVE PARTY
DESCRIPTION:More details about the event will be shared soon.
URL:https://maraleina.com/event/new-years-eve-party/
LOCATION:Maraleina Sports Resort\, 123/9 Moo 4 Tambol Namuang\, Koh Samui\, Surat Thani\, 84140\, Thailand
CATEGORIES:Family/Kids/Community
GEO:9.4290058756686;99.989219532826
X-APPLE-STRUCTURED-LOCATION;VALUE=URI;X-ADDRESS=Maraleina Sports Resort 123/9 Moo 4 Tambol Namuang Koh Samui Surat Thani 84140 Thailand;X-APPLE-RADIUS=500;X-TITLE=123/9 Moo 4 Tambol Namuang:geo:99.989219532826,9.4290058756686
END:VEVENT
END:VCALENDAR