BEGIN:VCALENDAR
VERSION:2.0
PRODID:-//Maraleina Sports Resort - ECPv6.15.20//NONSGML v1.0//EN
CALSCALE:GREGORIAN
METHOD:PUBLISH
X-ORIGINAL-URL:https://maraleina.com
X-WR-CALDESC:Events for Maraleina Sports Resort
REFRESH-INTERVAL;VALUE=DURATION:PT1H
X-Robots-Tag:noindex
X-PUBLISHED-TTL:PT1H
BEGIN:VTIMEZONE
TZID:Asia/Krasnoyarsk
BEGIN:STANDARD
TZOFFSETFROM:+0700
TZOFFSETTO:+0700
TZNAME:+07
DTSTART:20230101T000000
END:STANDARD
END:VTIMEZONE
BEGIN:VEVENT
DTSTART;TZID=Asia/Krasnoyarsk:20241030T180000
DTEND;TZID=Asia/Krasnoyarsk:20241030T203000
DTSTAMP:20260423T052436
CREATED:20241009T082532Z
LAST-MODIFIED:20241028T063046Z
UID:10001055-1730311200-1730320200@maraleina.com
SUMMARY:HALLOWEEN FOOTBALL PARTY AT PSG CHAWENG
DESCRIPTION:🎃⚽ Join Us for a Halloween Football Party at PSG Chaweng! ⚽🎃\n\nGet ready for a frightfully fun day of football\, games\, and Halloween activities at our Halloween Football Party! 🧙‍♀️👻\n\nDate: October 30\, 2024\nTime: 6pm – 8:30pm\nLocation: PSG Chaweng\n\nThis event is open to PSG Academy kids and their friends — come dressed in your best costume and enjoy:\n\nFootball Matches ⚽\nCostume Contest 🎩\nHalloween Activities 🎃\nRaffle Tickets 🎟️\nSnack Buffet & Water 🍬\n\nPricing:\nAdults: 299 THB\nKids: 199 THB\n\nDon’t miss out on the chance to combine football fun with Halloween magic! 👻⚽\nBring your friends along to share in the fun!\nSign up today and make this a Halloween to remember!
URL:https://maraleina.com/event/halloween-football-party-at-psg-chaweng/
LOCATION:PSG ACADEMY SAMUI | CHAWENG\, Address: 86\, 12\, Tambon Bo Put\,\, Ko Samui District\, Surat Thani\, 84320\, Thailand
ATTACH;FMTTYPE=image/png:https://maraleina.com/wp-content/uploads/2024/10/Slide-TV.png
END:VEVENT
END:VCALENDAR