BEGIN:VCALENDAR
VERSION:2.0
PRODID:-//Maraleina Sports Resort - ECPv6.15.20//NONSGML v1.0//EN
CALSCALE:GREGORIAN
METHOD:PUBLISH
X-WR-CALNAME:Maraleina Sports Resort
X-ORIGINAL-URL:https://maraleina.com
X-WR-CALDESC:Events for Maraleina Sports Resort
REFRESH-INTERVAL;VALUE=DURATION:PT1H
X-Robots-Tag:noindex
X-PUBLISHED-TTL:PT1H
BEGIN:VTIMEZONE
TZID:Asia/Krasnoyarsk
BEGIN:STANDARD
TZOFFSETFROM:+0700
TZOFFSETTO:+0700
TZNAME:+07
DTSTART:20230101T000000
END:STANDARD
END:VTIMEZONE
BEGIN:VEVENT
DTSTART;TZID=Asia/Krasnoyarsk:20241215T110000
DTEND;TZID=Asia/Krasnoyarsk:20241221T130000
DTSTAMP:20260423T051219
CREATED:20240904T084354Z
LAST-MODIFIED:20241009T090218Z
UID:10000526-1734260400-1734786000@maraleina.com
SUMMARY:PSG ACADEMY SAMUI CAMP - DECEMBER 2024
DESCRIPTION:Step into the world of Paris Saint-Germain Academy and experience football like never before!\n\n\nOur camps offer a unique opportunity for young football enthusiasts to immerse themselves in the values and methodology of one of Europe’s greatest clubs.\n\n With a presence in 22 countries\, over 200 schools\, 700 coaches\, and 45\,000 children worldwide\, PSG Academy is one of the leading global voices in youth football development.\nOur camps provide the perfect chance for kids to live the PSG lifestyle for 7 days\, combining improvement and fun. Through technical drills\, tactical exercises\, and games\, participants will put theory into practice under the guidance of club-trained coaches.\n\nJoin us for an unforgettable week of football\, friendship\, and growth!\n\n December 15th to 21st\, 2024 Price: 4\,943 THB per day all-inclusive Age groups: 6-17 years old Location: Maraleina Sports Resort Koh Samui\, Thailand\nhttps://maps.app.goo.gl/FDTb1DMR8Xpzdn2E7\n\nRegister for PSG Camp today and let the adventure begin!https://psgacademysamui.com/lp/register.html
URL:https://maraleina.com/event/psg-academy-samui-camp-december-2024/
LOCATION:Maraleina Sports Resort\, 123/9 Moo 4 Tambol Namuang\, Koh Samui\, Surat Thani\, 84140\, Thailand
ATTACH;FMTTYPE=image/jpeg:https://maraleina.com/wp-content/uploads/2024/09/PSG-CAMP-December-evento-Facebook.jpeg
GEO:9.4290058756686;99.989219532826
X-APPLE-STRUCTURED-LOCATION;VALUE=URI;X-ADDRESS=Maraleina Sports Resort 123/9 Moo 4 Tambol Namuang Koh Samui Surat Thani 84140 Thailand;X-APPLE-RADIUS=500;X-TITLE=123/9 Moo 4 Tambol Namuang:geo:99.989219532826,9.4290058756686
END:VEVENT
END:VCALENDAR