BEGIN:VCALENDAR
VERSION:2.0
PRODID:-//Maraleina Sports Resort - ECPv6.15.20//NONSGML v1.0//EN
CALSCALE:GREGORIAN
METHOD:PUBLISH
X-WR-CALNAME:Maraleina Sports Resort
X-ORIGINAL-URL:https://maraleina.com
X-WR-CALDESC:Events for Maraleina Sports Resort
REFRESH-INTERVAL;VALUE=DURATION:PT1H
X-Robots-Tag:noindex
X-PUBLISHED-TTL:PT1H
BEGIN:VTIMEZONE
TZID:Asia/Krasnoyarsk
BEGIN:STANDARD
TZOFFSETFROM:+0700
TZOFFSETTO:+0700
TZNAME:+07
DTSTART:20230101T000000
END:STANDARD
END:VTIMEZONE
BEGIN:VEVENT
DTSTART;TZID=Asia/Krasnoyarsk:20241223T110000
DTEND;TZID=Asia/Krasnoyarsk:20241229T120000
DTSTAMP:20260423T054115
CREATED:20241009T091019Z
LAST-MODIFIED:20241009T095356Z
UID:10001056-1734951600-1735473600@maraleina.com
SUMMARY:HEALTHY GETAWAY FITNESS RETREAT
DESCRIPTION:💪 Get ready for an unforgettable Healthy Getaway Fitness Retreat! \nUnwind and recharge with the perfect balance of fitness and leisure.\nAt Maraleina Fitness Retreat\, you don’t have to choose between relaxing or training — we’ve curated an experience that offers both! \nJoin us from December 23rd to 29th for dynamic workouts and island adventures. With special guest coach Mickey ANP joining the last 3 days\, it’s the ideal way to end 2024 on a high note! \nLimited spots available!\nSecure yours now and start 2025 feeling revitalized. 💥 \n📲 Book now:\nhttps://fitness-retreat.maraleina.com
URL:https://maraleina.com/event/healthy-getaway-fitness-retreat/
LOCATION:Maraleina Sports Resort\, 123/9 Moo 4 Tambol Namuang\, Koh Samui\, Surat Thani\, 84140\, Thailand
ATTACH;FMTTYPE=image/jpeg:https://maraleina.com/wp-content/uploads/2024/10/Fitness-Retreat-Evento.jpeg
GEO:9.4290058756686;99.989219532826
X-APPLE-STRUCTURED-LOCATION;VALUE=URI;X-ADDRESS=Maraleina Sports Resort 123/9 Moo 4 Tambol Namuang Koh Samui Surat Thani 84140 Thailand;X-APPLE-RADIUS=500;X-TITLE=123/9 Moo 4 Tambol Namuang:geo:99.989219532826,9.4290058756686
END:VEVENT
END:VCALENDAR