BEGIN:VCALENDAR
VERSION:2.0
PRODID:-//Maraleina Sports Resort - ECPv6.15.20//NONSGML v1.0//EN
CALSCALE:GREGORIAN
METHOD:PUBLISH
X-ORIGINAL-URL:https://maraleina.com
X-WR-CALDESC:Events for Maraleina Sports Resort
REFRESH-INTERVAL;VALUE=DURATION:PT1H
X-Robots-Tag:noindex
X-PUBLISHED-TTL:PT1H
BEGIN:VTIMEZONE
TZID:Asia/Krasnoyarsk
BEGIN:STANDARD
TZOFFSETFROM:+0700
TZOFFSETTO:+0700
TZNAME:+07
DTSTART:20240101T000000
END:STANDARD
END:VTIMEZONE
BEGIN:VEVENT
DTSTART;TZID=Asia/Krasnoyarsk:20250217T090000
DTEND;TZID=Asia/Krasnoyarsk:20250221T113000
DTSTAMP:20260423T014417
CREATED:20250115T035358Z
LAST-MODIFIED:20250120T043424Z
UID:10001058-1739782800-1740137400@maraleina.com
SUMMARY:PSG HOLIDAY FOOTBALL CAMP AT CHAWENG
DESCRIPTION:⚽️ PSG Holiday Football Camp ⚽️ \nJoin us and keep your kids active this school break at our football camp! \n📆 Feb. 17 – 21\n🏃 Ages: 3 – 13\n🕰️ Time: 9:00 am – 11:30 am\n📍 Location: Paris Saint-Germain Academy Samui | Chaweng \n💸 Special Early Bird Prices available\n💰 PSG Members (Monthly): 10% Discount! \nPicture your children jumping in for a week of making new friends\, learning football tactics\, skill training\, and fun games. To keep our athletes energized\, snacks and drinks will be provided. \n🛑 Limited Spots! \nOnly 14 spots per age group per day\n4 Age Groups: 3-7 / 8-9 / 10-11 / 12-13\n📌 Prior booking required \nWhether you’re a local or just visiting Koh Samui\, a beginner or a seasoned football player\, everyone is welcome to join our football camp! \nSpace is limited\, so secure your spot now! \nContact us today:\n📞 +66 91036 0361
URL:https://maraleina.com/event/psg-holiday-football-camp-at-psg-chaweng/
LOCATION:PSG ACADEMY SAMUI | CHAWENG\, Address: 86\, 12\, Tambon Bo Put\,\, Ko Samui District\, Surat Thani\, 84320\, Thailand
ATTACH;FMTTYPE=image/png:https://maraleina.com/wp-content/uploads/2025/01/Slide-TV-2.png
END:VEVENT
BEGIN:VEVENT
DTSTART;TZID=Asia/Krasnoyarsk:20250217T090000
DTEND;TZID=Asia/Krasnoyarsk:20250221T143000
DTSTAMP:20260423T014417
CREATED:20250115T034337Z
LAST-MODIFIED:20250120T034511Z
UID:10001057-1739782800-1740148200@maraleina.com
SUMMARY:HOLIDAY SPORTS CAMP
DESCRIPTION:Give your kids an unforgettable school break packed with exciting sports\, games\, and laughter! Our Holiday Sports Camp offers a fun\, engaging environment where they’ll stay active\, make new friends\, and create lasting memories. \n📅 Dates: Feb. 17 – 21\n🕘 Time: 9:00 AM – 2:30 PM\n🏀 Activities: Football\, Squash\, Beach Games\, Gymnastics\, Fitness & more!\n👦👧 Ages: 4 – 13\n🍎 Includes: Snacks\, Lunch & Water \n📢 Spaces are limited\, so don’t wait!\n🎟️ Book your spot now! 🎟️ \n🎉 Let’s make this school break the most active and fun-filled yet! 🎉
URL:https://maraleina.com/event/holiday-sports-camp/
LOCATION:Maraleina Sports Resort\, 123/9 Moo 4 Tambol Namuang\, Koh Samui\, Surat Thani\, 84140\, Thailand
ATTACH;FMTTYPE=image/png:https://maraleina.com/wp-content/uploads/2025/01/Slide-TV-1.png
GEO:9.4290058756686;99.989219532826
X-APPLE-STRUCTURED-LOCATION;VALUE=URI;X-ADDRESS=Maraleina Sports Resort 123/9 Moo 4 Tambol Namuang Koh Samui Surat Thani 84140 Thailand;X-APPLE-RADIUS=500;X-TITLE=123/9 Moo 4 Tambol Namuang:geo:99.989219532826,9.4290058756686
END:VEVENT
END:VCALENDAR