BEGIN:VCALENDAR
VERSION:2.0
PRODID:-//Maraleina Sports Resort - ECPv6.15.20//NONSGML v1.0//EN
CALSCALE:GREGORIAN
METHOD:PUBLISH
X-ORIGINAL-URL:https://maraleina.com
X-WR-CALDESC:Events for Maraleina Sports Resort
REFRESH-INTERVAL;VALUE=DURATION:PT1H
X-Robots-Tag:noindex
X-PUBLISHED-TTL:PT1H
BEGIN:VTIMEZONE
TZID:Asia/Krasnoyarsk
BEGIN:STANDARD
TZOFFSETFROM:+0700
TZOFFSETTO:+0700
TZNAME:+07
DTSTART:20240101T000000
END:STANDARD
END:VTIMEZONE
BEGIN:VEVENT
DTSTART;TZID=Asia/Krasnoyarsk:20250407T090000
DTEND;TZID=Asia/Krasnoyarsk:20250411T143000
DTSTAMP:20260422T222114
CREATED:20250310T033818Z
LAST-MODIFIED:20250310T033818Z
UID:10001060-1744016400-1744381800@maraleina.com
SUMMARY:HOLIDAY SPORTS CAMP - Songkran Edition
DESCRIPTION:📢 Maraleina Holiday Sports Camp – Songkran Special Edition 🌞💦 \n🏆 5 Days of Non-Stop Fun\, Sports & Water Adventures!\n📅 April 7 – 11\, 2024\n🕘 9:00 AM – 2:30 PM\n📍 Maraleina Sports Resort\, Koh Samui \n💦 The ultimate Songkran holiday experience for kids! A fun-filled sports camp packed with multisports\, fitness\, squash\, beach games\, water activities\, and Songkran-themed challenges! ⚽️🏖️🏊\n👦🏻 For Kids Aged 4-13\n🍉 Includes: Lunch\, Snacks\, and Water \n💰 PRICING:\n✅ Full 5-Day Camp: 6\,500 THB\n🔥 Early Bird Price: 5\,500 THB (Sign up before March 21st!)\n✅ 1-Day Camp: 1\,500 THB \n📢 Limited spots available – book now! ⏳\n📲 Register via WhatsApp: +66 801 694 276\n📩 Email: info@maraleina.com\n🏃‍♂️ Secure your spot before March 21st to save! 🏃‍♀️
URL:https://maraleina.com/event/holiday-sports-camp-songkran-edition/
LOCATION:Maraleina Sports Resort\, 123/9 Moo 4 Tambol Namuang\, Koh Samui\, Surat Thani\, 84140\, Thailand
ATTACH;FMTTYPE=image/jpeg:https://maraleina.com/wp-content/uploads/2025/03/Holiday-Songkran-TV-scaled.jpg
GEO:9.4290058756686;99.989219532826
X-APPLE-STRUCTURED-LOCATION;VALUE=URI;X-ADDRESS=Maraleina Sports Resort 123/9 Moo 4 Tambol Namuang Koh Samui Surat Thani 84140 Thailand;X-APPLE-RADIUS=500;X-TITLE=123/9 Moo 4 Tambol Namuang:geo:99.989219532826,9.4290058756686
END:VEVENT
END:VCALENDAR