BEGIN:VCALENDAR
VERSION:2.0
PRODID:-//Maraleina Sports Resort - ECPv6.15.20//NONSGML v1.0//EN
CALSCALE:GREGORIAN
METHOD:PUBLISH
X-WR-CALNAME:Maraleina Sports Resort
X-ORIGINAL-URL:https://maraleina.com
X-WR-CALDESC:Events for Maraleina Sports Resort
REFRESH-INTERVAL;VALUE=DURATION:PT1H
X-Robots-Tag:noindex
X-PUBLISHED-TTL:PT1H
BEGIN:VTIMEZONE
TZID:Asia/Krasnoyarsk
BEGIN:STANDARD
TZOFFSETFROM:+0700
TZOFFSETTO:+0700
TZNAME:+07
DTSTART:20240101T000000
END:STANDARD
END:VTIMEZONE
BEGIN:VEVENT
DTSTART;TZID=Asia/Krasnoyarsk:20250413T110000
DTEND;TZID=Asia/Krasnoyarsk:20250419T130000
DTSTAMP:20260422T221928
CREATED:20250310T042545Z
LAST-MODIFIED:20250310T042545Z
UID:10001061-1744542000-1745067600@maraleina.com
SUMMARY:PSG ACADEMY SAMUI CAMP - APRIL 2025
DESCRIPTION:🌴⚽ Next Stops: Paradise and Progress! ⚽🌴 \nGet ready for a unique football experience with PSG Academy Samui\, where world-class training meets the stunning backdrop of Koh Samui. 💙❤ \n📅 Upcoming Camps:\n✅ April 13th – 19th\n✅ June 22nd – 28th\n✅ July 6th – 12th\n✅ July 27th – August 2nd \nAt PSG Academy Samui\, your child will train with our exclusive Paris Saint-Germain methodology\, focusing on technical skills\, tactical awareness\, and team spirit—all while enjoying the beauty of a tropical island. 🌴✨ \nIt’s not just about football; it’s about building confidence\, making lifelong friendships\, and creating unforgettable memories. 🏝️⚽ \nSpots are limited — secure your child’s place today! Age groups: 6-17 years old\n✅4\,950 THB per day All Inclusive Location: Maraleina Sports Resort Koh Samui\, Thailand\nhttps://maps.app.goo.gl/FDTb1DMR8Xpzdn2E7\n\nRegister for PSG Camp today and let the adventure begin!https://psgacademysamui.com/lp/register.html
URL:https://maraleina.com/event/psg-academy-samui-camp-april-2025/
LOCATION:Maraleina Sports Resort\, 123/9 Moo 4 Tambol Namuang\, Koh Samui\, Surat Thani\, 84140\, Thailand
ATTACH;FMTTYPE=image/jpeg:https://maraleina.com/wp-content/uploads/2025/03/Cover-event-website-PSG.jpg
GEO:9.4290058756686;99.989219532826
X-APPLE-STRUCTURED-LOCATION;VALUE=URI;X-ADDRESS=Maraleina Sports Resort 123/9 Moo 4 Tambol Namuang Koh Samui Surat Thani 84140 Thailand;X-APPLE-RADIUS=500;X-TITLE=123/9 Moo 4 Tambol Namuang:geo:99.989219532826,9.4290058756686
END:VEVENT
END:VCALENDAR