BEGIN:VCALENDAR
VERSION:2.0
PRODID:-//Maraleina Sports Resort - ECPv6.15.20//NONSGML v1.0//EN
CALSCALE:GREGORIAN
METHOD:PUBLISH
X-ORIGINAL-URL:https://maraleina.com
X-WR-CALDESC:Events for Maraleina Sports Resort
REFRESH-INTERVAL;VALUE=DURATION:PT1H
X-Robots-Tag:noindex
X-PUBLISHED-TTL:PT1H
BEGIN:VTIMEZONE
TZID:Asia/Krasnoyarsk
BEGIN:STANDARD
TZOFFSETFROM:+0700
TZOFFSETTO:+0700
TZNAME:+07
DTSTART:20240101T000000
END:STANDARD
END:VTIMEZONE
BEGIN:VEVENT
DTSTART;TZID=Asia/Krasnoyarsk:20250712T080000
DTEND;TZID=Asia/Krasnoyarsk:20250712T170000
DTSTAMP:20260422T170214
CREATED:20250708T071913Z
LAST-MODIFIED:20250708T072501Z
UID:10001069-1752307200-1752339600@maraleina.com
SUMMARY:MARALEINA HYROX SAMUI SIMULATION RACE
DESCRIPTION:Calling All Competitors – Maraleina HYROX Samui Simulation Race Is Coming! \nJoin us at Maraleina Sports Resort on July 12 for the ultimate fitness challenge:\n💪 8 workout stations\n🏃‍♂️ 8 x 1KM runs\n🏋️ Official CENTR brand HYROX equipment\n👯‍♂️ Men’s\, Women’s & Mixed Doubles\n💸 Cash prizes to top teams \nWhether you’re chasing a personal best or racing for glory\, this is your chance to test your training island-style 🌴 Maraleina Members\, this event is included in your membership- we love to see you push your limits! \n📆 Friday\, July 12 | 8AM–5PM\n3\,000 baht per team (1\,500 baht per person)\n📲 Register at CSSB or visit the front desk\nLet’s crush it together 💥
URL:https://maraleina.com/event/maraleina-hyrox-samui-simulation-race/
LOCATION:Maraleina Sports Resort\, 123/9 Moo 4 Tambol Namuang\, Koh Samui\, Surat Thani\, 84140\, Thailand
ATTACH;FMTTYPE=image/jpeg:https://maraleina.com/wp-content/uploads/2025/07/evento-site-maraleina.jpg
GEO:9.4290058756686;99.989219532826
X-APPLE-STRUCTURED-LOCATION;VALUE=URI;X-ADDRESS=Maraleina Sports Resort 123/9 Moo 4 Tambol Namuang Koh Samui Surat Thani 84140 Thailand;X-APPLE-RADIUS=500;X-TITLE=123/9 Moo 4 Tambol Namuang:geo:99.989219532826,9.4290058756686
END:VEVENT
END:VCALENDAR