BEGIN:VCALENDAR
VERSION:2.0
PRODID:-//Maraleina Sports Resort - ECPv6.15.20//NONSGML v1.0//EN
CALSCALE:GREGORIAN
METHOD:PUBLISH
X-ORIGINAL-URL:https://maraleina.com
X-WR-CALDESC:Events for Maraleina Sports Resort
REFRESH-INTERVAL;VALUE=DURATION:PT1H
X-Robots-Tag:noindex
X-PUBLISHED-TTL:PT1H
BEGIN:VTIMEZONE
TZID:Asia/Krasnoyarsk
BEGIN:STANDARD
TZOFFSETFROM:+0700
TZOFFSETTO:+0700
TZNAME:+07
DTSTART:20240101T000000
END:STANDARD
END:VTIMEZONE
BEGIN:VEVENT
DTSTART;TZID=Asia/Krasnoyarsk:20250926T170000
DTEND;TZID=Asia/Krasnoyarsk:20250928T120000
DTSTAMP:20260422T094108
CREATED:20250513T044414Z
LAST-MODIFIED:20250513T044414Z
UID:10001064-1758906000-1759060800@maraleina.com
SUMMARY:SAMUI YOUTH FOOTBALL TOURNAMENT 2025 | U15 BOYS & GIRLS
DESCRIPTION:Let’s play football in paradise.\nMaraleina Sports Resort is hosting a youth football tournament. \n📅 September 26-28\n🎟️ FREE entry\n📺 Live-stream online \nGame Format: \n11-a-side (U15 Boys)\n7-a-side (U15 Girls) \nWhether you are a youth team who would like to participate in the tournament or just a football fan who would like to watch feel free to contact us to get more details: \nsports@maraleina.com\n📞+66 63 096 4395\nwa.me/66630964395 \nWe hope to see you there.
URL:https://maraleina.com/event/samui-youth-football-tournament-2025-u15-boys-girls/
LOCATION:Maraleina Sports Resort\, 123/9 Moo 4 Tambol Namuang\, Koh Samui\, Surat Thani\, 84140\, Thailand
ATTACH;FMTTYPE=image/jpeg:https://maraleina.com/wp-content/uploads/2025/05/26-28-sep_Samui-Youth-Football-Tournament-2025-COVER.jpg
GEO:9.4290058756686;99.989219532826
X-APPLE-STRUCTURED-LOCATION;VALUE=URI;X-ADDRESS=Maraleina Sports Resort 123/9 Moo 4 Tambol Namuang Koh Samui Surat Thani 84140 Thailand;X-APPLE-RADIUS=500;X-TITLE=123/9 Moo 4 Tambol Namuang:geo:99.989219532826,9.4290058756686
END:VEVENT
BEGIN:VEVENT
DTSTART;TZID=Asia/Krasnoyarsk:20250929T170000
DTEND;TZID=Asia/Krasnoyarsk:20250929T180000
DTSTAMP:20260422T094108
CREATED:20250926T034011Z
LAST-MODIFIED:20250926T034011Z
UID:10001070-1759165200-1759168800@maraleina.com
SUMMARY:WORLD HEART DAY SPECIAL — TABATA EDITION!
DESCRIPTION:❤️ World Heart Day Special — TABATA Edition!\nJoin us Monday\, Sept 29 at 5PM in The Sandbox for a high-energy TABATA class to celebrate World Heart Day 💪🔥\n(Replaces the usual TABATA class) \n👉 Limited spots – sign up at the front desk or WhatsApp us!\nSee you there 🏋️‍♂️💙 \n+66 80 169 4276
URL:https://maraleina.com/event/world-heart-day-special-hiit-class/
LOCATION:Maraleina Sports Resort\, 123/9 Moo 4 Tambol Namuang\, Koh Samui\, Surat Thani\, 84140\, Thailand
ATTACH;FMTTYPE=image/jpeg:https://maraleina.com/wp-content/uploads/2025/09/World-Heart-Day--scaled.jpg
GEO:9.4290058756686;99.989219532826
X-APPLE-STRUCTURED-LOCATION;VALUE=URI;X-ADDRESS=Maraleina Sports Resort 123/9 Moo 4 Tambol Namuang Koh Samui Surat Thani 84140 Thailand;X-APPLE-RADIUS=500;X-TITLE=123/9 Moo 4 Tambol Namuang:geo:99.989219532826,9.4290058756686
END:VEVENT
END:VCALENDAR