BEGIN:VCALENDAR
VERSION:2.0
PRODID:-//Maraleina Sports Resort - ECPv6.15.20//NONSGML v1.0//EN
CALSCALE:GREGORIAN
METHOD:PUBLISH
X-WR-CALNAME:Maraleina Sports Resort
X-ORIGINAL-URL:https://maraleina.com
X-WR-CALDESC:Events for Maraleina Sports Resort
REFRESH-INTERVAL;VALUE=DURATION:PT1H
X-Robots-Tag:noindex
X-PUBLISHED-TTL:PT1H
BEGIN:VTIMEZONE
TZID:Asia/Krasnoyarsk
BEGIN:STANDARD
TZOFFSETFROM:+0700
TZOFFSETTO:+0700
TZNAME:+07
DTSTART:20240101T000000
END:STANDARD
END:VTIMEZONE
BEGIN:VEVENT
DTSTART;TZID=Asia/Krasnoyarsk:20251017T170000
DTEND;TZID=Asia/Krasnoyarsk:20251019T120000
DTSTAMP:20260422T093732
CREATED:20250513T044704Z
LAST-MODIFIED:20250513T044704Z
UID:10001065-1760720400-1760875200@maraleina.com
SUMMARY:SAMUI YOUTH FOOTBALL TOURNAMENT 2025 | U17 BOYS & GIRLS
DESCRIPTION:Let’s play football in paradise.\nMaraleina Sports Resort is hosting a youth football tournament. \n📅 October 17-19\n🎟️ FREE entry\n📺 Live-stream online \nGame Format: \n11-a-side (applied for all age groups) \nWhether you are a youth team who would like to participate in the tournament or just a football fan who would like to watch feel free to contact us to get more details: \nsports@maraleina.com\n📞+66 63 096 4395\nwa.me/66630964395 \nWe hope to see you there.
URL:https://maraleina.com/event/samui-youth-football-tournament-2025-u17-boys-girls/
LOCATION:Maraleina Sports Resort\, 123/9 Moo 4 Tambol Namuang\, Koh Samui\, Surat Thani\, 84140\, Thailand
ATTACH;FMTTYPE=image/jpeg:https://maraleina.com/wp-content/uploads/2025/05/17-19-oct_Samui-Youth-Football-Tournament-2025-COVER.jpg
GEO:9.4290058756686;99.989219532826
X-APPLE-STRUCTURED-LOCATION;VALUE=URI;X-ADDRESS=Maraleina Sports Resort 123/9 Moo 4 Tambol Namuang Koh Samui Surat Thani 84140 Thailand;X-APPLE-RADIUS=500;X-TITLE=123/9 Moo 4 Tambol Namuang:geo:99.989219532826,9.4290058756686
END:VEVENT
END:VCALENDAR