BEGIN:VCALENDAR
VERSION:2.0
PRODID:-//Maraleina Sports Resort - ECPv6.15.20//NONSGML v1.0//EN
CALSCALE:GREGORIAN
METHOD:PUBLISH
X-ORIGINAL-URL:https://maraleina.com
X-WR-CALDESC:Events for Maraleina Sports Resort
REFRESH-INTERVAL;VALUE=DURATION:PT1H
X-Robots-Tag:noindex
X-PUBLISHED-TTL:PT1H
BEGIN:VTIMEZONE
TZID:Asia/Krasnoyarsk
BEGIN:STANDARD
TZOFFSETFROM:+0700
TZOFFSETTO:+0700
TZNAME:+07
DTSTART:20240101T000000
END:STANDARD
END:VTIMEZONE
BEGIN:VEVENT
DTSTART;TZID=Asia/Krasnoyarsk:20251206T150000
DTEND;TZID=Asia/Krasnoyarsk:20251206T230000
DTSTAMP:20260422T075344
CREATED:20251027T173715Z
LAST-MODIFIED:20251027T173715Z
UID:10001073-1765033200-1765062000@maraleina.com
SUMMARY:MARALEINA HYROX SAMUI SIMULATION RACE
DESCRIPTION:🏋️‍♂️ Sweat. Challenge. Camaraderie. 🌴💥\nThe Maraleina HYROX Simulation Race is coming fast—Dec 6th! Whether you’re a first-timer or a seasoned athlete\, this is your chance to race\, recover\, and connect—with paradise as your backdrop. \n💪 8 workout stations + 8 x 1KM runs\n👯 Open Categories: Singles | Doubles\n✨ FREE for members—another exclusive benefit of being part of our community\n💸 2\,000THB per entry | 1\,500THB for fellow island non-members \n🌟 Special Packages:\n🏨 HYROX Train & Stay Package for those flying in (hotel\, breakfast\, transfers\, facility access + race entry).*\n🏋️ Short-term 3-day & 5-day local memberships available including race entry!*\n*with discounts for “FRIENDS OF MEMBERS” – to activate the “friends of members” discount simply share the Maraleina member’s name when making the booking! \n📲 Registration closes Dec 3—don’t miss your chance\, sign up via Customer Service or WhatsApp today! (Link in bio) \nAfter the race\, join us for the Maraleina HYROX After Race Party at the Sports Café\n🎉 Free entry | Adults only\n🍹 Free welcome cocktail for racers — The Wall Ball Spritz\n🍢 Tapas buffet available for purchase\n🎧 DJ beats • Sports bar vibes • All the good energy\n⏰ From 7:00 PM\n👟 Dress code: Sporty\, Casual\, Ready to Party \nLet’s race\, celebrate\, and make it an unforgettable night! 🏆
URL:https://maraleina.com/event/maraleina-hyrox-samui-simulation-race-2/
LOCATION:Maraleina Sports Resort\, 123/9 Moo 4 Tambol Namuang\, Koh Samui\, Surat Thani\, 84140\, Thailand
ATTACH;FMTTYPE=image/jpeg:https://maraleina.com/wp-content/uploads/2025/10/HYROX-RACE-DEC-2025-TV.jpg
GEO:9.4290058756686;99.989219532826
X-APPLE-STRUCTURED-LOCATION;VALUE=URI;X-ADDRESS=Maraleina Sports Resort 123/9 Moo 4 Tambol Namuang Koh Samui Surat Thani 84140 Thailand;X-APPLE-RADIUS=500;X-TITLE=123/9 Moo 4 Tambol Namuang:geo:99.989219532826,9.4290058756686
END:VEVENT
END:VCALENDAR