BEGIN:VCALENDAR
VERSION:2.0
PRODID:-//Maraleina Sports Resort - ECPv6.15.20//NONSGML v1.0//EN
CALSCALE:GREGORIAN
METHOD:PUBLISH
X-WR-CALNAME:Maraleina Sports Resort
X-ORIGINAL-URL:https://maraleina.com
X-WR-CALDESC:Events for Maraleina Sports Resort
REFRESH-INTERVAL;VALUE=DURATION:PT1H
X-Robots-Tag:noindex
X-PUBLISHED-TTL:PT1H
BEGIN:VTIMEZONE
TZID:Asia/Krasnoyarsk
BEGIN:STANDARD
TZOFFSETFROM:+0700
TZOFFSETTO:+0700
TZNAME:+07
DTSTART:20240101T000000
END:STANDARD
END:VTIMEZONE
BEGIN:VEVENT
DTSTART;TZID=Asia/Krasnoyarsk:20251215T080000
DTEND;TZID=Asia/Krasnoyarsk:20251227T170000
DTSTAMP:20260422T075141
CREATED:20251027T171850Z
LAST-MODIFIED:20251028T035418Z
UID:10001071-1765785600-1766854800@maraleina.com
SUMMARY:SQUASH CAMP
DESCRIPTION:Squash lovers\, this one’s for you!\nThis December 15–27\, Maraleina Sports Resort is proud to host a Squash Camp with Swiss National Coach Pascal Bruhin 🎉 \n👉 Choose your experience:\n✨ Squash Camp (Train & Stay) – all-inclusive: accommodation\, meals\, daily training\, guided fitness\, excursions & more!\n✨ Group Sessions – 1.5-hour training with Pascal. \n📅 Early Bird rates until Nov 15\, 2025.\n📧 info@maraleina.com | 📱 WhatsApp: +66801694276 \nDon’t miss this chance to learn from one of the best while enjoying paradise in Koh Samui 🌴💪
URL:https://maraleina.com/event/squash-camp/
LOCATION:Maraleina Sports Resort\, 123/9 Moo 4 Tambol Namuang\, Koh Samui\, Surat Thani\, 84140\, Thailand
ATTACH;FMTTYPE=image/jpeg:https://maraleina.com/wp-content/uploads/2025/10/WhatsApp-Image-2025-10-28-at-4.12.40-AM.jpeg
GEO:9.4290058756686;99.989219532826
X-APPLE-STRUCTURED-LOCATION;VALUE=URI;X-ADDRESS=Maraleina Sports Resort 123/9 Moo 4 Tambol Namuang Koh Samui Surat Thani 84140 Thailand;X-APPLE-RADIUS=500;X-TITLE=123/9 Moo 4 Tambol Namuang:geo:99.989219532826,9.4290058756686
END:VEVENT
END:VCALENDAR