BEGIN:VCALENDAR
VERSION:2.0
PRODID:-//Maraleina Sports Resort - ECPv6.15.20//NONSGML v1.0//EN
CALSCALE:GREGORIAN
METHOD:PUBLISH
X-WR-CALNAME:Maraleina Sports Resort
X-ORIGINAL-URL:https://maraleina.com
X-WR-CALDESC:Events for Maraleina Sports Resort
REFRESH-INTERVAL;VALUE=DURATION:PT1H
X-Robots-Tag:noindex
X-PUBLISHED-TTL:PT1H
BEGIN:VTIMEZONE
TZID:Asia/Krasnoyarsk
BEGIN:STANDARD
TZOFFSETFROM:+0700
TZOFFSETTO:+0700
TZNAME:+07
DTSTART:20250101T000000
END:STANDARD
END:VTIMEZONE
BEGIN:VEVENT
DTSTART;TZID=Asia/Krasnoyarsk:20260216T090000
DTEND;TZID=Asia/Krasnoyarsk:20260220T143000
DTSTAMP:20260422T041559
CREATED:20260102T062258Z
LAST-MODIFIED:20260102T063338Z
UID:10001075-1771232400-1771597800@maraleina.com
SUMMARY:HOLIDAY SPORTS CAMP | FEB 16-20
DESCRIPTION:The Holiday Sports Camp is back! 🏃‍♂️⚽🏖️ \nFrom February 16-20\, kids will enjoy a week full of sports and fun at Maraleina Sports Resort! 👻\nFootball\, squash\, beach games\, gymnastics\, and fitness — all designed for kids aged 4–6\, 7–9\, and 10–13. \n📅 February 16-20\nFrom 9:00 am – 2:30 pm\n📍 Maraleina Sports Resort | Koh Samui\n📞 +66 801 694 276 | info@maraleina.com \nGive your kids a week of movement\, laughter\, and memories that will last forever! 💜
URL:https://maraleina.com/event/holiday-sports-camp-feb-16-20/
LOCATION:Maraleina Sports Resort\, 123/9 Moo 4 Tambol Namuang\, Koh Samui\, Surat Thani\, 84140\, Thailand
ATTACH;FMTTYPE=image/jpeg:https://maraleina.com/wp-content/uploads/2026/01/Holiday-Sports-Camp-Feb-2026-capa-site.jpeg
GEO:9.4290058756686;99.989219532826
X-APPLE-STRUCTURED-LOCATION;VALUE=URI;X-ADDRESS=Maraleina Sports Resort 123/9 Moo 4 Tambol Namuang Koh Samui Surat Thani 84140 Thailand;X-APPLE-RADIUS=500;X-TITLE=123/9 Moo 4 Tambol Namuang:geo:99.989219532826,9.4290058756686
END:VEVENT
END:VCALENDAR