BEGIN:VCALENDAR
VERSION:2.0
PRODID:-//Maraleina Sports Resort - ECPv6.15.20//NONSGML v1.0//EN
CALSCALE:GREGORIAN
METHOD:PUBLISH
X-WR-CALNAME:Maraleina Sports Resort
X-ORIGINAL-URL:https://maraleina.com
X-WR-CALDESC:Events for Maraleina Sports Resort
REFRESH-INTERVAL;VALUE=DURATION:PT1H
X-Robots-Tag:noindex
X-PUBLISHED-TTL:PT1H
BEGIN:VTIMEZONE
TZID:Asia/Krasnoyarsk
BEGIN:STANDARD
TZOFFSETFROM:+0700
TZOFFSETTO:+0700
TZNAME:+07
DTSTART:20250101T000000
END:STANDARD
END:VTIMEZONE
BEGIN:VEVENT
DTSTART;TZID=Asia/Krasnoyarsk:20260401T180000
DTEND;TZID=Asia/Krasnoyarsk:20260401T220000
DTSTAMP:20260422T023345
CREATED:20260402T060455Z
LAST-MODIFIED:20260417T035312Z
UID:10001116-1775066400-1775080800@maraleina.com
SUMMARY:AFTER WORK PARTY
DESCRIPTION:Every first Wednesday of the month\, from 6:00–10:00 PM\, at the Sports Bar. \n🍸 Free entry\n🍽️ 25% off all food & drinks\n🏋️ Non- member Fitness Center access for 250 THB (redeemable as a bar voucher)\n🎧 Live DJ setting the vibe all night \nA perfect way to reset after work\, reconnect with friends\, and ease into the new year with good energy\, great music\, and relaxed island vibes. \nSee you at Maraleina 🌴🥂
URL:https://maraleina.com/event/test/
LOCATION:Maraleina Sports Resort\, 123/9 Moo 4 Tambol Namuang\, Koh Samui\, Surat Thani\, 84140\, Thailand
CATEGORIES:Family/Kids/Community
ATTACH;FMTTYPE=image/jpeg:https://maraleina.com/wp-content/uploads/2026/04/AFTER-PARTY-TV-1-scaled.jpg
GEO:9.4290058756686;99.989219532826
X-APPLE-STRUCTURED-LOCATION;VALUE=URI;X-ADDRESS=Maraleina Sports Resort 123/9 Moo 4 Tambol Namuang Koh Samui Surat Thani 84140 Thailand;X-APPLE-RADIUS=500;X-TITLE=123/9 Moo 4 Tambol Namuang:geo:99.989219532826,9.4290058756686
END:VEVENT
BEGIN:VEVENT
DTSTART;TZID=Asia/Krasnoyarsk:20260404T084500
DTEND;TZID=Asia/Krasnoyarsk:20260404T120000
DTSTAMP:20260422T023345
CREATED:20260402T062829Z
LAST-MODIFIED:20260402T062829Z
UID:10001118-1775292300-1775304000@maraleina.com
SUMMARY:PSG EASTER TOURNAMENT
DESCRIPTION:PSG Academy Samui Easter Tournament \nGet ready for a fun and competitive day on the pitch. \n📅 April 4th\n📍 Maraleina Sports Resort – Bangkao\nExclusively for PSG Academy Samui members\, this internal tournament will bring players together in a dynamic and enjoyable environment. \n⚽ Teams will be organized by our coaches based on age\, level and position to ensure fair competition. \n🕘 Schedule:\n3–7 years old | 3v3 → 08:45 – 10:30\n8–16 years old | 5v5 → 08:30 – 12:00\n💰 Registration fee: 250 THB\n📌 Deadline: March 31st\nSecure your spot with Lina or Fon.\n+66 91 036 0361 \nLet’s play. Let’s compete. Let’s enjoy the game. ⚽🔥
URL:https://maraleina.com/event/psg-easter-tournament/
LOCATION:Maraleina Sports Resort\, 123/9 Moo 4 Tambol Namuang\, Koh Samui\, Surat Thani\, 84140\, Thailand
CATEGORIES:Football
ATTACH;FMTTYPE=image/jpeg:https://maraleina.com/wp-content/uploads/2026/04/PSG-EASTER-TOURN.-TV.jpg
GEO:9.4290058756686;99.989219532826
X-APPLE-STRUCTURED-LOCATION;VALUE=URI;X-ADDRESS=Maraleina Sports Resort 123/9 Moo 4 Tambol Namuang Koh Samui Surat Thani 84140 Thailand;X-APPLE-RADIUS=500;X-TITLE=123/9 Moo 4 Tambol Namuang:geo:99.989219532826,9.4290058756686
END:VEVENT
BEGIN:VEVENT
DTSTART;TZID=Asia/Krasnoyarsk:20260404T110000
DTEND;TZID=Asia/Krasnoyarsk:20260404T150000
DTSTAMP:20260422T023345
CREATED:20260402T061720Z
LAST-MODIFIED:20260417T035542Z
UID:10001117-1775300400-1775314800@maraleina.com
SUMMARY:EASTER BRUNCH
DESCRIPTION:Book your Easter Brunch at Maraleina by April 1 and enjoy the special ฿1\,000 price (walk-ins: ฿1\,500). \nChildren 6–12: 50% off\nUnder 5: Free with paying adult \nYour brunch booking also gives you full access to Family Sports Day activities\, plus all the Easter fun:\nEgg Hunt\nBounce House\nPool & Water Slide\nLive DJ + Aperol pop-up bar\nFootball\, Squash & Fitness sessions (come early to enjoy!) \n📅 Saturday\, April 4\n⏰ 11:00AM – 3:00PM \n⚠ Limited to 60 spots — reserve early to save your spot! \nBook all 3 Family Sports Day activities on the day and receive THB250 credit toward the Easter Brunch or any of our dining outlets. \nReserve your Easter Brunch now and unlock the full day of fun – We can’t wait to see you there!
URL:https://maraleina.com/event/family-sports-day-special-easter/
LOCATION:Maraleina Sports Resort\, 123/9 Moo 4 Tambol Namuang\, Koh Samui\, Surat Thani\, 84140\, Thailand
CATEGORIES:Family/Kids/Community
ATTACH;FMTTYPE=image/png:https://maraleina.com/wp-content/uploads/2026/04/Family-Sports-Day-Easter-Brunch-1-scaled.png
GEO:9.4290058756686;99.989219532826
X-APPLE-STRUCTURED-LOCATION;VALUE=URI;X-ADDRESS=Maraleina Sports Resort 123/9 Moo 4 Tambol Namuang Koh Samui Surat Thani 84140 Thailand;X-APPLE-RADIUS=500;X-TITLE=123/9 Moo 4 Tambol Namuang:geo:99.989219532826,9.4290058756686
END:VEVENT
END:VCALENDAR