BEGIN:VCALENDAR
VERSION:2.0
PRODID:-//Maraleina Sports Resort - ECPv6.15.20//NONSGML v1.0//EN
CALSCALE:GREGORIAN
METHOD:PUBLISH
X-ORIGINAL-URL:https://maraleina.com
X-WR-CALDESC:Events for Maraleina Sports Resort
REFRESH-INTERVAL;VALUE=DURATION:PT1H
X-Robots-Tag:noindex
X-PUBLISHED-TTL:PT1H
BEGIN:VTIMEZONE
TZID:Asia/Krasnoyarsk
BEGIN:STANDARD
TZOFFSETFROM:+0700
TZOFFSETTO:+0700
TZNAME:+07
DTSTART:20250101T000000
END:STANDARD
END:VTIMEZONE
BEGIN:VEVENT
DTSTART;TZID=Asia/Krasnoyarsk:20260405T080000
DTEND;TZID=Asia/Krasnoyarsk:20260410T170000
DTSTAMP:20260422T000921
CREATED:20260402T063345Z
LAST-MODIFIED:20260403T081702Z
UID:10001119-1775376000-1775840400@maraleina.com
SUMMARY:AIA CAMP HKFC
DESCRIPTION:Tottenham Hotspurs Football Camp – HKFC
URL:https://maraleina.com/event/aia-camp-hkfc/
LOCATION:Maraleina Sports Resort\, 123/9 Moo 4 Tambol Namuang\, Koh Samui\, Surat Thani\, 84140\, Thailand
CATEGORIES:Private Group Event
ATTACH;FMTTYPE=image/png:https://maraleina.com/wp-content/uploads/2026/04/AIA-June-1.png
GEO:9.4290058756686;99.989219532826
X-APPLE-STRUCTURED-LOCATION;VALUE=URI;X-ADDRESS=Maraleina Sports Resort 123/9 Moo 4 Tambol Namuang Koh Samui Surat Thani 84140 Thailand;X-APPLE-RADIUS=500;X-TITLE=123/9 Moo 4 Tambol Namuang:geo:99.989219532826,9.4290058756686
END:VEVENT
BEGIN:VEVENT
DTSTART;TZID=Asia/Krasnoyarsk:20260407T100000
DTEND;TZID=Asia/Krasnoyarsk:20260407T180000
DTSTAMP:20260422T000921
CREATED:20260403T073537Z
LAST-MODIFIED:20260403T073537Z
UID:10001120-1775556000-1775584800@maraleina.com
SUMMARY:WORLD HEALTH DAY
DESCRIPTION:🌍​ World Health Day @ Maraleina – April 7\n​⏰​ 10:00–18:00 | Drop in anytime!\nTake a day to explore\, learn & take action on your health. \nHealth Check Zone (Fitness Center Reception Area)\n​✅​ Bangkok Hospital screenings\n✅ Acupuncture by ChanvejSamui\n​✅​ InBody scans + instant results \nEducation Sessions (2nd Fl. Fitness Center)\n11:00 | 16:00 \nPop-up Smoothie Bar (Fitness Center Reception Area)\nRecovery Zone + Ice Bath (Garden & Pool are next to the Clubhouse) \n​📌​ Take on the Ice Bath Challenge!\nlast for 7 mins = THB 250 voucher\nlast for 15 mins = 1 FREE month membership! \n​✅​ Know your numbers\n​✅​ Understand your body\n​✅​ Take action \nNo booking needed—just show up\, explore\, & enjoy!
URL:https://maraleina.com/event/world-health-day/
LOCATION:Maraleina Sports Resort\, 123/9 Moo 4 Tambol Namuang\, Koh Samui\, Surat Thani\, 84140\, Thailand
CATEGORIES:Family/Kids/Community,Fitness
ATTACH;FMTTYPE=image/jpeg:https://maraleina.com/wp-content/uploads/2026/04/WORLD-HEALTH-DAY-TV.jpg
GEO:9.4290058756686;99.989219532826
X-APPLE-STRUCTURED-LOCATION;VALUE=URI;X-ADDRESS=Maraleina Sports Resort 123/9 Moo 4 Tambol Namuang Koh Samui Surat Thani 84140 Thailand;X-APPLE-RADIUS=500;X-TITLE=123/9 Moo 4 Tambol Namuang:geo:99.989219532826,9.4290058756686
END:VEVENT
BEGIN:VEVENT
DTSTART;TZID=Asia/Krasnoyarsk:20260411T090000
DTEND;TZID=Asia/Krasnoyarsk:20260411T143000
DTSTAMP:20260422T000921
CREATED:20260407T064347Z
LAST-MODIFIED:20260407T065724Z
UID:10001127-1775898000-1775917800@maraleina.com
SUMMARY:FAMILY SPORTS DAY
DESCRIPTION:We’re delighted to invite you to Maraleina Sports Resort for a fantastic Family Sports Day! Join us starting at 9:00 a.m. and enjoy a full day of activities until 2:30 p.m. Remember to arrive at least 15 minutes early to get settled and ready for a day of fun. We’ll take care of the rest\, ensuring your kids have a blast in their activities while you get a chance to relax and enjoy our facilities. \nThis is the ultimate opportunity for parents to prioritize their well-being while their kids have a great time! While your little ones enjoy engaging activities supervised by our coaches\, you can unwind with fitness classes\, gym access\, and relaxation in our sauna and plunge pool. \nAnd of course\, what’s a day of sports without some delicious treats? Indulge in mouthwatering burgers\, fries\, and thirst-quenching beverages including beer and soft drinks\, all available for your enjoyment. Mark your calendars and don’t miss out on this action-packed day with your family. \nLooking forward to seeing you there for another fantastic day of family fun!
URL:https://maraleina.com/event/family-sports-day-2/
LOCATION:Maraleina Sports Resort\, 123/9 Moo 4 Tambol Namuang\, Koh Samui\, Surat Thani\, 84140\, Thailand
CATEGORIES:Family/Kids/Community
ATTACH;FMTTYPE=image/jpeg:https://maraleina.com/wp-content/uploads/2026/04/event-banner-family-sports-day-1.jpeg
GEO:9.4290058756686;99.989219532826
X-APPLE-STRUCTURED-LOCATION;VALUE=URI;X-ADDRESS=Maraleina Sports Resort 123/9 Moo 4 Tambol Namuang Koh Samui Surat Thani 84140 Thailand;X-APPLE-RADIUS=500;X-TITLE=123/9 Moo 4 Tambol Namuang:geo:99.989219532826,9.4290058756686
END:VEVENT
END:VCALENDAR