BEGIN:VCALENDAR
VERSION:2.0
PRODID:-//Maraleina Sports Resort - ECPv6.15.20//NONSGML v1.0//EN
CALSCALE:GREGORIAN
METHOD:PUBLISH
X-WR-CALNAME:Maraleina Sports Resort
X-ORIGINAL-URL:https://maraleina.com
X-WR-CALDESC:Events for Maraleina Sports Resort
REFRESH-INTERVAL;VALUE=DURATION:PT1H
X-Robots-Tag:noindex
X-PUBLISHED-TTL:PT1H
BEGIN:VTIMEZONE
TZID:Asia/Krasnoyarsk
BEGIN:STANDARD
TZOFFSETFROM:+0700
TZOFFSETTO:+0700
TZNAME:+07
DTSTART:20250101T000000
END:STANDARD
END:VTIMEZONE
BEGIN:VEVENT
DTSTART;TZID=Asia/Krasnoyarsk:20260530T080000
DTEND;TZID=Asia/Krasnoyarsk:20260531T170000
DTSTAMP:20260422T062955
CREATED:20260408T102733Z
LAST-MODIFIED:20260409T023400Z
UID:10001177-1780128000-1780246800@maraleina.com
SUMMARY:PSG FRIENDLY CUP
DESCRIPTION:More details about the event will be shared soon.
URL:https://maraleina.com/event/psg-friendly-cup/
LOCATION:Surat Thani
CATEGORIES:Football
END:VEVENT
BEGIN:VEVENT
DTSTART;TZID=Asia/Krasnoyarsk:20260603T180000
DTEND;TZID=Asia/Krasnoyarsk:20260603T220000
DTSTAMP:20260422T062955
CREATED:20260409T022402Z
LAST-MODIFIED:20260409T022402Z
UID:10001178-1780509600-1780524000@maraleina.com
SUMMARY:AFTER WORK PARTY
DESCRIPTION:Every first Wednesday of the month\, from 6:00–10:00 PM\, at the Sports Bar. \n🍸 Free entry\n🍽️ 25% off all food & drinks\n🏋️ Non- member Fitness Center access for 250 THB (redeemable as a bar voucher)\n🎧 Live DJ setting the vibe all night \nA perfect way to reset after work\, reconnect with friends\, and ease into the new year with good energy\, great music\, and relaxed island vibes. \nRegister now:\n+66 801 694 276\nSee you at Maraleina 🌴🥂
URL:https://maraleina.com/event/after-work-party/
LOCATION:Maraleina Sports Resort\, 123/9 Moo 4 Tambol Namuang\, Koh Samui\, Surat Thani\, 84140\, Thailand
CATEGORIES:Family/Kids/Community
ATTACH;FMTTYPE=image/jpeg:https://maraleina.com/wp-content/uploads/2026/04/AFTER-PARTY-TV-1-scaled.jpg
GEO:9.4290058756686;99.989219532826
X-APPLE-STRUCTURED-LOCATION;VALUE=URI;X-ADDRESS=Maraleina Sports Resort 123/9 Moo 4 Tambol Namuang Koh Samui Surat Thani 84140 Thailand;X-APPLE-RADIUS=500;X-TITLE=123/9 Moo 4 Tambol Namuang:geo:99.989219532826,9.4290058756686
END:VEVENT
BEGIN:VEVENT
DTSTART;TZID=Asia/Krasnoyarsk:20260605T080000
DTEND;TZID=Asia/Krasnoyarsk:20260605T170000
DTSTAMP:20260422T062955
CREATED:20260409T022746Z
LAST-MODIFIED:20260409T024020Z
UID:10001179-1780646400-1780678800@maraleina.com
SUMMARY:PSG ACADEMY SPORTS AWARDS
DESCRIPTION:More details about the event will be shared soon.
URL:https://maraleina.com/event/psg-academy-sports-awards/
LOCATION:Surat Thani
CATEGORIES:Football
END:VEVENT
BEGIN:VEVENT
DTSTART;TZID=Asia/Krasnoyarsk:20260606T090000
DTEND;TZID=Asia/Krasnoyarsk:20260606T143000
DTSTAMP:20260422T062955
CREATED:20260408T092319Z
LAST-MODIFIED:20260408T092319Z
UID:10001138-1780736400-1780756200@maraleina.com
SUMMARY:FAMILY SPORTS DAY
DESCRIPTION:We’re delighted to invite you to Maraleina Sports Resort for a fantastic Family Sports Day! Join us starting at 9:00 a.m. and enjoy a full day of activities until 2:30 p.m. Remember to arrive at least 15 minutes early to get settled and ready for a day of fun. We’ll take care of the rest\, ensuring your kids have a blast in their activities while you get a chance to relax and enjoy our facilities. \nThis is the ultimate opportunity for parents to prioritize their well-being while their kids have a great time! While your little ones enjoy engaging activities supervised by our coaches\, you can unwind with fitness classes\, gym access\, and relaxation in our sauna and plunge pool. \nAnd of course\, what’s a day of sports without some delicious treats? Indulge in mouthwatering burgers\, fries\, and thirst-quenching beverages including beer and soft drinks\, all available for your enjoyment. Mark your calendars and don’t miss out on this action-packed day with your family. \nLooking forward to seeing you there for another fantastic day of family fun!
URL:https://maraleina.com/event/family-sports-day-9/
LOCATION:Maraleina Sports Resort\, 123/9 Moo 4 Tambol Namuang\, Koh Samui\, Surat Thani\, 84140\, Thailand
CATEGORIES:Family/Kids/Community
ATTACH;FMTTYPE=image/jpeg:https://maraleina.com/wp-content/uploads/2026/04/event-banner-family-sports-day-1.jpeg
GEO:9.4290058756686;99.989219532826
X-APPLE-STRUCTURED-LOCATION;VALUE=URI;X-ADDRESS=Maraleina Sports Resort 123/9 Moo 4 Tambol Namuang Koh Samui Surat Thani 84140 Thailand;X-APPLE-RADIUS=500;X-TITLE=123/9 Moo 4 Tambol Namuang:geo:99.989219532826,9.4290058756686
END:VEVENT
END:VCALENDAR