BEGIN:VCALENDAR
VERSION:2.0
PRODID:-//Maraleina Sports Resort - ECPv6.15.20//NONSGML v1.0//EN
CALSCALE:GREGORIAN
METHOD:PUBLISH
X-WR-CALNAME:Maraleina Sports Resort
X-ORIGINAL-URL:https://maraleina.com
X-WR-CALDESC:Events for Maraleina Sports Resort
REFRESH-INTERVAL;VALUE=DURATION:PT1H
X-Robots-Tag:noindex
X-PUBLISHED-TTL:PT1H
BEGIN:VTIMEZONE
TZID:Asia/Krasnoyarsk
BEGIN:STANDARD
TZOFFSETFROM:+0700
TZOFFSETTO:+0700
TZNAME:+07
DTSTART:20250101T000000
END:STANDARD
END:VTIMEZONE
BEGIN:VEVENT
DTSTART;VALUE=DATE:20260621
DTEND;VALUE=DATE:20260628
DTSTAMP:20260422T060752
CREATED:20260409T030011Z
LAST-MODIFIED:20260409T030011Z
UID:10001184-1782000000-1782604799@maraleina.com
SUMMARY:PSG ACADEMY CAMP
DESCRIPTION:More than a football camp. A complete life experience. ⚽🌴\nAt PSG Academy Samui Camp\, football is at the heart of everything we do\, but the experience goes far beyond the pitch. \nAlongside daily training sessions following the Paris Saint-Germain methodology\, our players enjoy a full program designed to develop confidence\, independence\, teamwork\, and unforgettable memories. \n🏟 Professional football training\n🏨 Comfortable accommodation\n🍽 Full board meals\n🌙 Glow in the Dark Football\n🥊 Thai Boxing sessions\n⚽ Football Golf\n🐘 Elephant Kingdom Sanctuary visit\n🏖 Beach activities\n✈️ Airport and pier shuttle service\n🎓 Certificate at the end of the camp\nAll in a safe\, structured\, and fully supervised environment at Maraleina Sports Resort\, Koh Samui. \nThis is where football development meets adventure\, culture\, and fun. \n📅 Next Camp: June 21–27\, 2026 \nTrain like a Champion with PSG Academy Samui 🇫🇷⚽
URL:https://maraleina.com/event/psg-academy-camp-2/
LOCATION:Maraleina Sports Resort\, 123/9 Moo 4 Tambol Namuang\, Koh Samui\, Surat Thani\, 84140\, Thailand
CATEGORIES:Football
GEO:9.4290058756686;99.989219532826
X-APPLE-STRUCTURED-LOCATION;VALUE=URI;X-ADDRESS=Maraleina Sports Resort 123/9 Moo 4 Tambol Namuang Koh Samui Surat Thani 84140 Thailand;X-APPLE-RADIUS=500;X-TITLE=123/9 Moo 4 Tambol Namuang:geo:99.989219532826,9.4290058756686
END:VEVENT
BEGIN:VEVENT
DTSTART;VALUE=DATE:20260624
DTEND;VALUE=DATE:20260629
DTSTAMP:20260422T060752
CREATED:20260409T030733Z
LAST-MODIFIED:20260409T030733Z
UID:10001186-1782259200-1782691199@maraleina.com
SUMMARY:BARCA SINGAPORE TOUR
DESCRIPTION:
URL:https://maraleina.com/event/barca-singapore-tour/
LOCATION:Maraleina Sports Resort\, 123/9 Moo 4 Tambol Namuang\, Koh Samui\, Surat Thani\, 84140\, Thailand
CATEGORIES:Private Group Event
GEO:9.4290058756686;99.989219532826
X-APPLE-STRUCTURED-LOCATION;VALUE=URI;X-ADDRESS=Maraleina Sports Resort 123/9 Moo 4 Tambol Namuang Koh Samui Surat Thani 84140 Thailand;X-APPLE-RADIUS=500;X-TITLE=123/9 Moo 4 Tambol Namuang:geo:99.989219532826,9.4290058756686
END:VEVENT
BEGIN:VEVENT
DTSTART;TZID=Asia/Krasnoyarsk:20260627T090000
DTEND;TZID=Asia/Krasnoyarsk:20260627T143000
DTSTAMP:20260422T060752
CREATED:20260408T092721Z
LAST-MODIFIED:20260408T092721Z
UID:10001141-1782550800-1782570600@maraleina.com
SUMMARY:FAMILY SPORTS DAY
DESCRIPTION:We’re delighted to invite you to Maraleina Sports Resort for a fantastic Family Sports Day! Join us starting at 9:00 a.m. and enjoy a full day of activities until 2:30 p.m. Remember to arrive at least 15 minutes early to get settled and ready for a day of fun. We’ll take care of the rest\, ensuring your kids have a blast in their activities while you get a chance to relax and enjoy our facilities. \nThis is the ultimate opportunity for parents to prioritize their well-being while their kids have a great time! While your little ones enjoy engaging activities supervised by our coaches\, you can unwind with fitness classes\, gym access\, and relaxation in our sauna and plunge pool. \nAnd of course\, what’s a day of sports without some delicious treats? Indulge in mouthwatering burgers\, fries\, and thirst-quenching beverages including beer and soft drinks\, all available for your enjoyment. Mark your calendars and don’t miss out on this action-packed day with your family. \nLooking forward to seeing you there for another fantastic day of family fun!
URL:https://maraleina.com/event/family-sports-day-12/
LOCATION:Maraleina Sports Resort\, 123/9 Moo 4 Tambol Namuang\, Koh Samui\, Surat Thani\, 84140\, Thailand
CATEGORIES:Family/Kids/Community
ATTACH;FMTTYPE=image/jpeg:https://maraleina.com/wp-content/uploads/2026/04/event-banner-family-sports-day-1.jpeg
GEO:9.4290058756686;99.989219532826
X-APPLE-STRUCTURED-LOCATION;VALUE=URI;X-ADDRESS=Maraleina Sports Resort 123/9 Moo 4 Tambol Namuang Koh Samui Surat Thani 84140 Thailand;X-APPLE-RADIUS=500;X-TITLE=123/9 Moo 4 Tambol Namuang:geo:99.989219532826,9.4290058756686
END:VEVENT
END:VCALENDAR