BEGIN:VCALENDAR
VERSION:2.0
PRODID:-//Maraleina Sports Resort - ECPv6.15.20//NONSGML v1.0//EN
CALSCALE:GREGORIAN
METHOD:PUBLISH
X-ORIGINAL-URL:https://maraleina.com
X-WR-CALDESC:Events for Maraleina Sports Resort
REFRESH-INTERVAL;VALUE=DURATION:PT1H
X-Robots-Tag:noindex
X-PUBLISHED-TTL:PT1H
BEGIN:VTIMEZONE
TZID:Asia/Krasnoyarsk
BEGIN:STANDARD
TZOFFSETFROM:+0700
TZOFFSETTO:+0700
TZNAME:+07
DTSTART:20250101T000000
END:STANDARD
END:VTIMEZONE
BEGIN:VEVENT
DTSTART;VALUE=DATE:20260809
DTEND;VALUE=DATE:20260815
DTSTAMP:20260422T092112
CREATED:20260409T054929Z
LAST-MODIFIED:20260409T054929Z
UID:10001194-1786233600-1786751999@maraleina.com
SUMMARY:AIA CAMP HONGKONG
DESCRIPTION:Tottenham Hotspurs Football Camp – Hongkong
URL:https://maraleina.com/event/aia-camp-hongkong/
LOCATION:Maraleina Sports Resort\, 123/9 Moo 4 Tambol Namuang\, Koh Samui\, Surat Thani\, 84140\, Thailand
CATEGORIES:Private Group Event
ATTACH;FMTTYPE=image/png:https://maraleina.com/wp-content/uploads/2026/04/AIA-June-1.png
GEO:9.4290058756686;99.989219532826
X-APPLE-STRUCTURED-LOCATION;VALUE=URI;X-ADDRESS=Maraleina Sports Resort 123/9 Moo 4 Tambol Namuang Koh Samui Surat Thani 84140 Thailand;X-APPLE-RADIUS=500;X-TITLE=123/9 Moo 4 Tambol Namuang:geo:99.989219532826,9.4290058756686
END:VEVENT
BEGIN:VEVENT
DTSTART;TZID=Asia/Krasnoyarsk:20260810T090000
DTEND;TZID=Asia/Krasnoyarsk:20260814T143000
DTSTAMP:20260422T092112
CREATED:20260409T055304Z
LAST-MODIFIED:20260417T044113Z
UID:10001195-1786352400-1786717800@maraleina.com
SUMMARY:Holiday Sports Camp
DESCRIPTION:We’ve added another week due to high demand!\nMaraleina Holiday Sports Camp now runs:\n✅ August 10 – 14 \nKeep your kids active and off screens this school break with a fun-filled multi-sport camp:\nFootball | Squash | Beach games\nGymnastics | Fitness | Team games\nAges: 4–6 | 7–9 | 10–13 \nLed by our experienced coaches in a safe\, high-energy environment where kids build skills\, confidence\, and friendships. \n1 day: 1\,500 THB\n5 days: 6\,500 THB\n⚠ Limited spots available — filling fast!
URL:https://maraleina.com/event/holiday-sports-camp-3/
LOCATION:Maraleina Sports Resort\, 123/9 Moo 4 Tambol Namuang\, Koh Samui\, Surat Thani\, 84140\, Thailand
CATEGORIES:Family/Kids/Community
GEO:9.4290058756686;99.989219532826
X-APPLE-STRUCTURED-LOCATION;VALUE=URI;X-ADDRESS=Maraleina Sports Resort 123/9 Moo 4 Tambol Namuang Koh Samui Surat Thani 84140 Thailand;X-APPLE-RADIUS=500;X-TITLE=123/9 Moo 4 Tambol Namuang:geo:99.989219532826,9.4290058756686
END:VEVENT
BEGIN:VEVENT
DTSTART;TZID=Asia/Krasnoyarsk:20260815T090000
DTEND;TZID=Asia/Krasnoyarsk:20260815T143000
DTSTAMP:20260422T092112
CREATED:20260408T093212Z
LAST-MODIFIED:20260408T093212Z
UID:10001149-1786784400-1786804200@maraleina.com
SUMMARY:FAMILY SPORTS DAY
DESCRIPTION:We’re delighted to invite you to Maraleina Sports Resort for a fantastic Family Sports Day! Join us starting at 9:00 a.m. and enjoy a full day of activities until 2:30 p.m. Remember to arrive at least 15 minutes early to get settled and ready for a day of fun. We’ll take care of the rest\, ensuring your kids have a blast in their activities while you get a chance to relax and enjoy our facilities. \nThis is the ultimate opportunity for parents to prioritize their well-being while their kids have a great time! While your little ones enjoy engaging activities supervised by our coaches\, you can unwind with fitness classes\, gym access\, and relaxation in our sauna and plunge pool. \nAnd of course\, what’s a day of sports without some delicious treats? Indulge in mouthwatering burgers\, fries\, and thirst-quenching beverages including beer and soft drinks\, all available for your enjoyment. Mark your calendars and don’t miss out on this action-packed day with your family. \nLooking forward to seeing you there for another fantastic day of family fun!
URL:https://maraleina.com/event/family-sports-day-19/
LOCATION:Maraleina Sports Resort\, 123/9 Moo 4 Tambol Namuang\, Koh Samui\, Surat Thani\, 84140\, Thailand
CATEGORIES:Family/Kids/Community
ATTACH;FMTTYPE=image/jpeg:https://maraleina.com/wp-content/uploads/2026/04/event-banner-family-sports-day-1.jpeg
GEO:9.4290058756686;99.989219532826
X-APPLE-STRUCTURED-LOCATION;VALUE=URI;X-ADDRESS=Maraleina Sports Resort 123/9 Moo 4 Tambol Namuang Koh Samui Surat Thani 84140 Thailand;X-APPLE-RADIUS=500;X-TITLE=123/9 Moo 4 Tambol Namuang:geo:99.989219532826,9.4290058756686
END:VEVENT
END:VCALENDAR