BEGIN:VCALENDAR
VERSION:2.0
PRODID:-//Maraleina Sports Resort - ECPv6.15.20//NONSGML v1.0//EN
CALSCALE:GREGORIAN
METHOD:PUBLISH
X-ORIGINAL-URL:https://maraleina.com
X-WR-CALDESC:Events for Maraleina Sports Resort
REFRESH-INTERVAL;VALUE=DURATION:PT1H
X-Robots-Tag:noindex
X-PUBLISHED-TTL:PT1H
BEGIN:VTIMEZONE
TZID:Asia/Krasnoyarsk
BEGIN:STANDARD
TZOFFSETFROM:+0700
TZOFFSETTO:+0700
TZNAME:+07
DTSTART:20250101T000000
END:STANDARD
END:VTIMEZONE
BEGIN:VEVENT
DTSTART;VALUE=DATE:20261011
DTEND;VALUE=DATE:20261019
DTSTAMP:20260422T122333
CREATED:20260409T084800Z
LAST-MODIFIED:20260409T084800Z
UID:10001204-1791676800-1792367999@maraleina.com
SUMMARY:BISP FOOTBALL CAMP
DESCRIPTION:
URL:https://maraleina.com/event/bisp-football-camp/
LOCATION:Maraleina Sports Resort\, 123/9 Moo 4 Tambol Namuang\, Koh Samui\, Surat Thani\, 84140\, Thailand
CATEGORIES:Private Group Event
GEO:9.4290058756686;99.989219532826
X-APPLE-STRUCTURED-LOCATION;VALUE=URI;X-ADDRESS=Maraleina Sports Resort 123/9 Moo 4 Tambol Namuang Koh Samui Surat Thani 84140 Thailand;X-APPLE-RADIUS=500;X-TITLE=123/9 Moo 4 Tambol Namuang:geo:99.989219532826,9.4290058756686
END:VEVENT
BEGIN:VEVENT
DTSTART;TZID=Asia/Krasnoyarsk:20261016T170000
DTEND;TZID=Asia/Krasnoyarsk:20261018T120000
DTSTAMP:20260422T122333
CREATED:20260409T085131Z
LAST-MODIFIED:20260409T085131Z
UID:10001205-1792170000-1792324800@maraleina.com
SUMMARY:SAMUI 11's YOUTH FOOTBALL TOURNAMENT 2026 | U17 BOYS AND GIRLS
DESCRIPTION:Let’s play football in paradise.\n\nMaraleina Sports Resort is hosting a youth football tournament. \n📅 October 16 – 18\n🎟️ FREE entry\n📺 Live-stream online \nGame Format: \n11-a-side (applied for all age groups) \nWhether you are a youth team who would like to participate in the tournament or just a football fan who would like to watch feel free to contact us to get more details: \nsports@maraleina.com\n📞+66 63 096 4395\nwa.me/66630964395 \nWe hope to see you there.
URL:https://maraleina.com/event/samui-11s-youth-football-tournament-2026-u17-boys-and-girls/
LOCATION:Maraleina Sports Resort\, 123/9 Moo 4 Tambol Namuang\, Koh Samui\, Surat Thani\, 84140\, Thailand
CATEGORIES:Football
GEO:9.4290058756686;99.989219532826
X-APPLE-STRUCTURED-LOCATION;VALUE=URI;X-ADDRESS=Maraleina Sports Resort 123/9 Moo 4 Tambol Namuang Koh Samui Surat Thani 84140 Thailand;X-APPLE-RADIUS=500;X-TITLE=123/9 Moo 4 Tambol Namuang:geo:99.989219532826,9.4290058756686
END:VEVENT
BEGIN:VEVENT
DTSTART;TZID=Asia/Krasnoyarsk:20261024T080000
DTEND;TZID=Asia/Krasnoyarsk:20261024T170000
DTSTAMP:20260422T122333
CREATED:20260409T085334Z
LAST-MODIFIED:20260409T085334Z
UID:10001206-1792828800-1792861200@maraleina.com
SUMMARY:THINK PINK RUN
DESCRIPTION:More details about the event will be shared soon.
URL:https://maraleina.com/event/think-pink-run/
LOCATION:Maraleina Sports Resort\, 123/9 Moo 4 Tambol Namuang\, Koh Samui\, Surat Thani\, 84140\, Thailand
CATEGORIES:Family/Kids/Community
GEO:9.4290058756686;99.989219532826
X-APPLE-STRUCTURED-LOCATION;VALUE=URI;X-ADDRESS=Maraleina Sports Resort 123/9 Moo 4 Tambol Namuang Koh Samui Surat Thani 84140 Thailand;X-APPLE-RADIUS=500;X-TITLE=123/9 Moo 4 Tambol Namuang:geo:99.989219532826,9.4290058756686
END:VEVENT
BEGIN:VEVENT
DTSTART;TZID=Asia/Krasnoyarsk:20261024T090000
DTEND;TZID=Asia/Krasnoyarsk:20261024T143000
DTSTAMP:20260422T122333
CREATED:20260408T093807Z
LAST-MODIFIED:20260408T093807Z
UID:10001158-1792832400-1792852200@maraleina.com
SUMMARY:FAMILY SPORTS DAY
DESCRIPTION:We’re delighted to invite you to Maraleina Sports Resort for a fantastic Family Sports Day! Join us starting at 9:00 a.m. and enjoy a full day of activities until 2:30 p.m. Remember to arrive at least 15 minutes early to get settled and ready for a day of fun. We’ll take care of the rest\, ensuring your kids have a blast in their activities while you get a chance to relax and enjoy our facilities. \nThis is the ultimate opportunity for parents to prioritize their well-being while their kids have a great time! While your little ones enjoy engaging activities supervised by our coaches\, you can unwind with fitness classes\, gym access\, and relaxation in our sauna and plunge pool. \nAnd of course\, what’s a day of sports without some delicious treats? Indulge in mouthwatering burgers\, fries\, and thirst-quenching beverages including beer and soft drinks\, all available for your enjoyment. Mark your calendars and don’t miss out on this action-packed day with your family. \nLooking forward to seeing you there for another fantastic day of family fun!
URL:https://maraleina.com/event/family-sports-day-29/
LOCATION:Maraleina Sports Resort\, 123/9 Moo 4 Tambol Namuang\, Koh Samui\, Surat Thani\, 84140\, Thailand
CATEGORIES:Family/Kids/Community
ATTACH;FMTTYPE=image/jpeg:https://maraleina.com/wp-content/uploads/2026/04/event-banner-family-sports-day-1.jpeg
GEO:9.4290058756686;99.989219532826
X-APPLE-STRUCTURED-LOCATION;VALUE=URI;X-ADDRESS=Maraleina Sports Resort 123/9 Moo 4 Tambol Namuang Koh Samui Surat Thani 84140 Thailand;X-APPLE-RADIUS=500;X-TITLE=123/9 Moo 4 Tambol Namuang:geo:99.989219532826,9.4290058756686
END:VEVENT
END:VCALENDAR